BEGIN:VCALENDAR
VERSION:2.0
PRODID:-//Plumergat - ECPv6.15.20//NONSGML v1.0//EN
CALSCALE:GREGORIAN
METHOD:PUBLISH
X-WR-CALNAME:Plumergat
X-ORIGINAL-URL:https://www.plumergat.fr
X-WR-CALDESC:Évènements pour Plumergat
REFRESH-INTERVAL;VALUE=DURATION:PT1H
X-Robots-Tag:noindex
X-PUBLISHED-TTL:PT1H
BEGIN:VTIMEZONE
TZID:Europe/Paris
BEGIN:DAYLIGHT
TZOFFSETFROM:+0100
TZOFFSETTO:+0200
TZNAME:CEST
DTSTART:20210328T010000
END:DAYLIGHT
BEGIN:STANDARD
TZOFFSETFROM:+0200
TZOFFSETTO:+0100
TZNAME:CET
DTSTART:20211031T010000
END:STANDARD
BEGIN:DAYLIGHT
TZOFFSETFROM:+0100
TZOFFSETTO:+0200
TZNAME:CEST
DTSTART:20220327T010000
END:DAYLIGHT
BEGIN:STANDARD
TZOFFSETFROM:+0200
TZOFFSETTO:+0100
TZNAME:CET
DTSTART:20221030T010000
END:STANDARD
BEGIN:DAYLIGHT
TZOFFSETFROM:+0100
TZOFFSETTO:+0200
TZNAME:CEST
DTSTART:20230326T010000
END:DAYLIGHT
BEGIN:STANDARD
TZOFFSETFROM:+0200
TZOFFSETTO:+0100
TZNAME:CET
DTSTART:20231029T010000
END:STANDARD
END:VTIMEZONE
BEGIN:VEVENT
DTSTART;VALUE=DATE:20221014
DTEND;VALUE=DATE:20221022
DTSTAMP:20260423T174654
CREATED:20220906T122404Z
LAST-MODIFIED:20221005T065320Z
UID:5281-1665705600-1666396799@www.plumergat.fr
SUMMARY:Salon Lir'enPlum
DESCRIPTION:26e Expo-Vente « Lir’enPlum » organisée par l’école L’Arlequin Bleu. \nHoraires d’ouverture\nVendredi 14 octobre : 8h30-12h00 / 14h30-17h00\nSamedi 15 octobre : 9h00 – 12h00\nLundi 17 octobre : 8h30-12h00 / 14h30-19h00\nMardi 18 octobre : 8h30-12h00 / 14h30-17h00\nMercredi 19 octobre : 8h30-12h00 / 14h30-19h00\nJeudi 20 octobre : 8h30-12h00 / 14h30-17h00\nVendredi 21 octobre : 8h30-12h00 / 14h30-19h00 \nSamedi 15 octobre\, séance de « dédicaces » avec :\nYves COTTEN\, auteur / illustrateur\nCatherine LATTEUX (auteure jeunesse) et WRAY (scénariste) \nEntrée libre
URL:https://www.plumergat.fr/evenement/salon-lirenplum/
LOCATION:Salle du Conseil (Mairie)\, 5 place du Castil\, Plumergat\, 56400\, France
CATEGORIES:Culture,Ecoles,Jeunesse,Loisirs,Manifestations
ATTACH;FMTTYPE=image/jpeg:https://www.plumergat.fr/wp-content/uploads/2022/10/Evenements-AB-Lire_en_Plum_OCT22-e1664952763260.jpg
ORGANIZER;CN="Ecole L'Arlequin Bleu":MAILTO:ec.0561612y@ac-rennes.fr
END:VEVENT
BEGIN:VEVENT
DTSTART;TZID=Europe/Paris:20220930T184500
DTEND;TZID=Europe/Paris:20220930T184500
DTSTAMP:20260423T174654
CREATED:20220822T144650Z
LAST-MODIFIED:20220927T064614Z
UID:4894-1664563500-1664563500@www.plumergat.fr
SUMMARY:« Qui sommes nous-je ? »
DESCRIPTION:Ouverture de la saison culturelle 2022/2023 par Madame le Maire à 18h45 \n\nSuivi par le spectacle « Qui Sommes Nous-Je ?« \nou les toutes dernières aventures de « Lola et Gaston »….\nSpectacle « Circopoéticoclownesque » destiné à tous les publics\, qui se veut généreux et drôle\, mettant en scène Lola et Gaston\, joyeux duo qui pendant 40 minutes va se retrouver dans des situations ubuesques et déjantées\, laissant la part belle tant à l’absurde qu’au concret\, en conflit direct entre l’un et l’autre\, offrant des palettes de jeux à moult propositions… \nAutour des Arts du Cirque\, le choix délibéré d’un humour qui entretient un rire franc en évitant délicatement une dérision dévalorisante. \nA l’issue du spectacle\, la municipalité offrira aux spectateurs un « pot de convivialité » \nVoir le teaser « Qui sommes nous-je ? »
URL:https://www.plumergat.fr/evenement/qui-sommes-nous-je/
LOCATION:Espace Les Hermines\, Rue Joseph Evenas\, Plumergat\, 56400\, France
CATEGORIES:Culture,Loisirs,Manifestations
ATTACH;FMTTYPE=image/jpeg:https://www.plumergat.fr/wp-content/uploads/2022/08/Evenements-Affiche_Qui_Sommes_nous_Je.jpg
END:VEVENT
BEGIN:VEVENT
DTSTART;TZID=Europe/Paris:20220909T200000
DTEND;TZID=Europe/Paris:20220909T200000
DTSTAMP:20260423T174654
CREATED:20220713T114452Z
LAST-MODIFIED:20220822T145707Z
UID:4631-1662753600-1662753600@www.plumergat.fr
SUMMARY:Réunion "Calendrier des Associations"
DESCRIPTION:Etude du calendrier des activités proposées par les différentes associations et répartition des moyens (locaux\, soutien Services Techniques\, etc.) \nPour consulter le catalogue des Associations
URL:https://www.plumergat.fr/evenement/reunion-calendrier-des-associations/
LOCATION:Salle du Conseil (Mairie)\, 5 place du Castil\, Plumergat\, 56400\, France
CATEGORIES:Culture,Loisirs,Manifestations,Social
ATTACH;FMTTYPE=image/jpeg:https://www.plumergat.fr/wp-content/uploads/2022/07/Evenement-Banniere-Vie_Associative.jpg
END:VEVENT
BEGIN:VEVENT
DTSTART;TZID=Europe/Paris:20220903T090000
DTEND;TZID=Europe/Paris:20220903T120000
DTSTAMP:20260423T174654
CREATED:20220712T152542Z
LAST-MODIFIED:20220725T070913Z
UID:4622-1662195600-1662206400@www.plumergat.fr
SUMMARY:Forum des Associations
DESCRIPTION:Venez retrouver les associations de Plumergat et de Mériadec le 3 septembre 2022 de 9h00 à 12h00 à la salle polyvalente de Mériadec.
URL:https://www.plumergat.fr/evenement/forum-des-associations/
LOCATION:Salle polyvalente Parfait Pobéguin\, rue Parfait Pobéguin Mériadec\, Plumergat\, 56400\, France
CATEGORIES:Loisirs,Manifestations,Social
ATTACH;FMTTYPE=image/jpeg:https://www.plumergat.fr/wp-content/uploads/2022/07/Boite_a_loisir-e1658732942817.jpg
END:VEVENT
BEGIN:VEVENT
DTSTART;TZID=Europe/Paris:20220825T183000
DTEND;TZID=Europe/Paris:20220825T200000
DTSTAMP:20260423T174654
CREATED:20220512T113601Z
LAST-MODIFIED:20220512T113601Z
UID:3947-1661452200-1661457600@www.plumergat.fr
SUMMARY:Les Apéros Klam : Le Net / Lorho Pasco (Concert - Musique bretonne)
DESCRIPTION:Par le Collectif Klam (lien vers le site) \nTandem acoustique résolu à dénicher et composer des mélodies simples\, jolies ; puis jouer\, s’en amuser. Ce duo est fort de son attachement aux musiques traditionnelles de Bretagne\, vivantes\, étonnantes et voyageuses. \nTimothée Le Net / Accordéon \nMeriadeg Lorho Pasco / Clarinette \nTeaser vidéo : https://urlz.fr/hM69 \nGratuit – Tout public
URL:https://www.plumergat.fr/evenement/les-aperos-klam-le-net-lorho-pasco-concert-musique-bretonne/
LOCATION:Mairie Annexe Mériadec\, 1 Place de l'Église\, Mériadec\, 56400\, France
CATEGORIES:Culture,Loisirs
ATTACH;FMTTYPE=image/png:https://www.plumergat.fr/wp-content/uploads/2022/05/Le-Net-Lorho-Pasco.png
END:VEVENT
BEGIN:VEVENT
DTSTART;TZID=Europe/Paris:20220817T183000
DTEND;TZID=Europe/Paris:20220817T200000
DTSTAMP:20260423T174654
CREATED:20220512T102943Z
LAST-MODIFIED:20220512T103036Z
UID:3944-1660761000-1660766400@www.plumergat.fr
SUMMARY:Les Apéros Klam : Tango Libre (Concert - Musique du monde)
DESCRIPTION:Par le Collectif Klam (lien vers le site) \nAgrémenté d’anecdotes sur l’histoire du tango argentin\, le trio propose un voyage à travers ses thèmes traditionnels\, modernes et contemporains : délicatesse et humour de la Guardia Vieja ; contrastes et nostalgie des années 40 ; mélodies étirées et fugues endiablées d’Astor Piazzolla ; électro-tango revisité en acoustique et compositions personnelles. \nPauline Lovat / Clarinette\, Cajón \nBahia El Bacha / Violoncelle et Voix \nChristine Chazelle / Piano\, Histoires\, Arrangements \nTeaser vidéo : https://urlz.fr/hLXz \nGratuit – Tout public
URL:https://www.plumergat.fr/evenement/les-aperos-klam-tango-libre-concert-musique-du-monde/
LOCATION:Espace Les Hermines\, Rue Joseph Evenas\, Plumergat\, 56400\, France
CATEGORIES:Culture,Loisirs
ATTACH;FMTTYPE=image/png:https://www.plumergat.fr/wp-content/uploads/2022/05/Tango-Libre.png
END:VEVENT
BEGIN:VEVENT
DTSTART;TZID=Europe/Paris:20220724T100000
DTEND;TZID=Europe/Paris:20220724T183000
DTSTAMP:20260423T174654
CREATED:20220718T081510Z
LAST-MODIFIED:20220718T081723Z
UID:4723-1658656800-1658687400@www.plumergat.fr
SUMMARY:Joutes du Loch
DESCRIPTION:
URL:https://www.plumergat.fr/evenement/joutes-du-loch/
LOCATION:Port de Saint Goustan (Auray)\, Saint Goustan\, auray\, France
CATEGORIES:Loisirs,Manifestations
ATTACH;FMTTYPE=image/png:https://www.plumergat.fr/wp-content/uploads/2022/07/Evenements-Joute_Loch24_JUIL22.png
END:VEVENT
BEGIN:VEVENT
DTSTART;VALUE=DATE:20220716
DTEND;VALUE=DATE:20220717
DTSTAMP:20260423T174654
CREATED:20220608T124559Z
LAST-MODIFIED:20220711T093355Z
UID:4187-1657929600-1658015999@www.plumergat.fr
SUMMARY:Journée "Fête nationale" à Plumergat
DESCRIPTION:Le comité des fêtes de Plumergat organise une journée pour la Fête nationale le 16 juillet\nProgramme :\nTournoi de Mölkky (émargement 9h30)\nBal populaire\nFeu d’artifice \nRestauration le midi (grillades / pommes de terre – 5€) et le soir paëlla sur réservation (10€)
URL:https://www.plumergat.fr/evenement/journee-fete-nationale/
LOCATION:Stade de foot\, Rue Anne de Bretagne\, Plumergat\, 56400\, France
CATEGORIES:Loisirs,Manifestations
ATTACH;FMTTYPE=image/jpeg:https://www.plumergat.fr/wp-content/uploads/2022/07/Evenements-Comite_Plumergat-16_juillet22.jpg
ORGANIZER;CN="Comit%C3%A9 des F%C3%AAtes de Plumergat":MAILTO:solennprono@orange.fr
END:VEVENT
BEGIN:VEVENT
DTSTART;TZID=Europe/Paris:20220703T100000
DTEND;TZID=Europe/Paris:20220703T210000
DTSTAMP:20260423T174654
CREATED:20220317T144934Z
LAST-MODIFIED:20220616T115042Z
UID:3293-1656842400-1656882000@www.plumergat.fr
SUMMARY:Festival "La bougeotte"
DESCRIPTION:Festival de danse offrant au public des spectacles de danse professionnels et accessibles\, des ateliers\, des jeux de mouvements dans un cadre familial et bucolique.\nProgramme\n \nAffiche\n \nTarif Libre\nEspace Les Hermines. \nJournée organisée par la compagnie Les Divers Gens (Site) et soutenue par la commune
URL:https://www.plumergat.fr/evenement/festival-la-bougeotte/
LOCATION:Espace Les Hermines\, Rue Joseph Evenas\, Plumergat\, 56400\, France
CATEGORIES:Culture,Loisirs
ATTACH;FMTTYPE=image/jpeg:https://www.plumergat.fr/wp-content/uploads/2022/03/Evenement-La_Bougeotte_3_JUIL22.jpg
END:VEVENT
BEGIN:VEVENT
DTSTART;TZID=Europe/Paris:20220626T100000
DTEND;TZID=Europe/Paris:20220626T113000
DTSTAMP:20260423T174654
CREATED:20220616T092222Z
LAST-MODIFIED:20220617T054658Z
UID:4295-1656237600-1656243000@www.plumergat.fr
SUMMARY:Inscription École de Football de Plumergat
DESCRIPTION:Cliquer pour agrandir
URL:https://www.plumergat.fr/evenement/inscription-ecole-de-football-de-plumergat/
LOCATION:Stade de foot\, Rue Anne de Bretagne\, Plumergat\, 56400\, France
CATEGORIES:Jeunesse,Loisirs
END:VEVENT
BEGIN:VEVENT
DTSTART;TZID=Europe/Paris:20220616T183000
DTEND;TZID=Europe/Paris:20220616T200000
DTSTAMP:20260423T174654
CREATED:20220512T095113Z
LAST-MODIFIED:20220519T071018Z
UID:3929-1655404200-1655409600@www.plumergat.fr
SUMMARY:Les Apéros Klam : Dixit (Concert - Musique bretonne)
DESCRIPTION:Par le Collectif Klam (lien vers le site) \n« a dit » en latin. Dixit reprend la musique traditionnelle bretonne à danser et la fait sienne. Un instrumentarium original. De l’énergie. De la fraîcheur. C’est la citation d’une culture qui ne cesse d’évoluer\, une grande richesse de couleurs que les musiciennes de Dixit explorent. \nSterenn Toscer / Chant\, Violon \nKlervi Piel / Bombarde\, Basson \nMorgane Grégory / Harpe Amplifiée \nCrédit photo : Eric LEGRET \nTeaser vidéo : https://urlz.fr/hLl5 \nGratuit – Tout public \nPlace de l’église à Mériadec
URL:https://www.plumergat.fr/evenement/les-aperos-klam-dixit-concert-musique-bretonne/
LOCATION:Place de l’Église\, Mériadec\, 56400\, France
CATEGORIES:Culture,Loisirs
ATTACH;FMTTYPE=image/png:https://www.plumergat.fr/wp-content/uploads/2022/05/Dixit.png
END:VEVENT
BEGIN:VEVENT
DTSTART;TZID=Europe/Paris:20220601T173000
DTEND;TZID=Europe/Paris:20220601T173000
DTSTAMP:20260423T174654
CREATED:20220421T151952Z
LAST-MODIFIED:20220601T074224Z
UID:3680-1654104600-1654104600@www.plumergat.fr
SUMMARY:Clôture des inscriptions "Maisons et Jardins fleuris"
DESCRIPTION:Date de clôture des inscriptions pour le concours « Maisons et Jardins fleuris » \nModalités de participation\nConsulter : plumergat.fr | Agenda | Actualités (Environnement)
URL:https://www.plumergat.fr/evenement/cloture-des-inscriptions-maisons-et-jardins-fleuris/
LOCATION:Accueil Mairie\, 5 Place du Castil\, Plumergat\, 56400\, France
CATEGORIES:Environnement,Loisirs,Manifestations
ATTACH;FMTTYPE=image/jpeg:https://www.plumergat.fr/wp-content/uploads/2022/04/Actualites-Banniere-Concours_Jardins_Fleuris.jpg
ORGANIZER;CN="Accueil Mairie":MAILTO:accueil.mairie@plumergat.fr
END:VEVENT
BEGIN:VEVENT
DTSTART;TZID=Europe/Paris:20220522T103000
DTEND;TZID=Europe/Paris:20220522T103000
DTSTAMP:20260423T174654
CREATED:20220419T092655Z
LAST-MODIFIED:20220523T123244Z
UID:3634-1653215400-1653215400@www.plumergat.fr
SUMMARY:Marche Gourmande Mériadec
DESCRIPTION:L’Amicale Xavier Grall vous invite à une marche gourmande le dimanche 22 mai à partir de 10h30.\nInscription avant le 9 mai au 06.84.45.78.42 ou amicalexaviergrall@gmail.com \nParticipation adulte 13€ – Enfant 6€
URL:https://www.plumergat.fr/evenement/marche-gourmande-meriadec/
LOCATION:Stade Mériadec\, Stade de Mériadec\, D135\, 56400 Pluneret\, France
CATEGORIES:Loisirs
ATTACH;FMTTYPE=image/jpeg:https://www.plumergat.fr/wp-content/uploads/2022/04/Marche_Gourmande.jpg
END:VEVENT
BEGIN:VEVENT
DTSTART;TZID=Europe/Paris:20220409T180000
DTEND;TZID=Europe/Paris:20220409T200000
DTSTAMP:20260423T174654
CREATED:20220317T111638Z
LAST-MODIFIED:20220317T111645Z
UID:3281-1649527200-1649534400@www.plumergat.fr
SUMMARY:Avenir de Plumergat - Repas à emporter
DESCRIPTION:L’Avenir de Plumergat vous propose un repas à emporter le 9 avril.\nMenu : Couscous ou Bœuf bourguignon + Tarte aux pommes\nRepas à retirer au stade de 18h00 à 20h00\nRéservations : 06.65.22.12.34\nTarif : 11€ \nAttention fin des réservations le 5 avril
URL:https://www.plumergat.fr/evenement/avenir-de-plumergat-repas-a-emporter/
LOCATION:Stade de foot\, Rue Anne de Bretagne\, Plumergat\, 56400\, France
CATEGORIES:Loisirs
ATTACH;FMTTYPE=image/jpeg:https://www.plumergat.fr/wp-content/uploads/2022/03/Banniere-Avenir-Repas_09AVR22.jpg
ORGANIZER;CN="Avenir de Plumergat":MAILTO:ronan.evain@gmail.com
END:VEVENT
BEGIN:VEVENT
DTSTART;TZID=Europe/Paris:20220401T193000
DTEND;TZID=Europe/Paris:20220401T203000
DTSTAMP:20260423T174654
CREATED:20220327T084311Z
LAST-MODIFIED:20220327T084347Z
UID:3382-1648841400-1648845000@www.plumergat.fr
SUMMARY:Apéro Spectacle (Esprit Danse)
DESCRIPTION:Vendredi 1er avril 2022  » Apéro spectacle » de 19h30 à 20h30 – salle des Hermines Plumergat\nOrganisé par l’association Esprit Danse\n \n\n\n   Présentation des chorégraphies concours « Océan Danse » \n\n\n   Freestyle Hip Hop avec les élèves du cours de breakdance \nInformations sur les associations sur Site Mairie | Vie associative | Catalogue des Associations
URL:https://www.plumergat.fr/evenement/apero-spectacle-esprit-danse/
LOCATION:Espace Les Hermines\, Rue Joseph Evenas\, Plumergat\, 56400\, France
CATEGORIES:Loisirs
ORGANIZER;CN="Esprit Danse":MAILTO:espritdanse56400@gmail.com
END:VEVENT
BEGIN:VEVENT
DTSTART;TZID=Europe/Paris:20220326T203000
DTEND;TZID=Europe/Paris:20220326T203000
DTSTAMP:20260423T174654
CREATED:20220301T140715Z
LAST-MODIFIED:20220301T150040Z
UID:3110-1648326600-1648326600@www.plumergat.fr
SUMMARY:Bal Country
DESCRIPTION:L’association Daddy’s Country 56 organise un bal country le 26 mars\, 20h30\, à l’espace Les hermines\nBuvette et petite restauration sur place\nCliquer pour voir l’affiche \nWorkshop à 14h30 sur réservation au 06.13.40.57.30
URL:https://www.plumergat.fr/evenement/bal-country/
LOCATION:Espace Les Hermines\, Rue Joseph Evenas\, Plumergat\, 56400\, France
CATEGORIES:Loisirs
ATTACH;FMTTYPE=image/jpeg:https://www.plumergat.fr/wp-content/uploads/2022/03/Evenement-Banniere-Loisirs-Daddy_Country26_Mars.jpg
END:VEVENT
END:VCALENDAR