BEGIN:VCALENDAR
VERSION:2.0
PRODID:-//Plumergat - ECPv6.15.20//NONSGML v1.0//EN
CALSCALE:GREGORIAN
METHOD:PUBLISH
X-ORIGINAL-URL:https://www.plumergat.fr
X-WR-CALDESC:Évènements pour Plumergat
REFRESH-INTERVAL;VALUE=DURATION:PT1H
X-Robots-Tag:noindex
X-PUBLISHED-TTL:PT1H
BEGIN:VTIMEZONE
TZID:Europe/Paris
BEGIN:DAYLIGHT
TZOFFSETFROM:+0100
TZOFFSETTO:+0200
TZNAME:CEST
DTSTART:20230326T010000
END:DAYLIGHT
BEGIN:STANDARD
TZOFFSETFROM:+0200
TZOFFSETTO:+0100
TZNAME:CET
DTSTART:20231029T010000
END:STANDARD
BEGIN:DAYLIGHT
TZOFFSETFROM:+0100
TZOFFSETTO:+0200
TZNAME:CEST
DTSTART:20240331T010000
END:DAYLIGHT
BEGIN:STANDARD
TZOFFSETFROM:+0200
TZOFFSETTO:+0100
TZNAME:CET
DTSTART:20241027T010000
END:STANDARD
BEGIN:DAYLIGHT
TZOFFSETFROM:+0100
TZOFFSETTO:+0200
TZNAME:CEST
DTSTART:20250330T010000
END:DAYLIGHT
BEGIN:STANDARD
TZOFFSETFROM:+0200
TZOFFSETTO:+0100
TZNAME:CET
DTSTART:20251026T010000
END:STANDARD
END:VTIMEZONE
BEGIN:VEVENT
DTSTART;TZID=Europe/Paris:20240211T090000
DTEND;TZID=Europe/Paris:20240211T180000
DTSTAMP:20260419T183022
CREATED:20231222T210001Z
LAST-MODIFIED:20240326T153643Z
UID:12062-1707642000-1707674400@www.plumergat.fr
SUMMARY:VIDE-GRENIER
DESCRIPTION:📌 INSCRIPTIONS JUSQU’AU 2 FÉVRIER 2024\n🍽️ Buvette et petite restauration sur place\n✉️ Demande de renseignements et inscriptions à amicalexaviergrall@gmail.com \nTous les bénéfices permettront de financer les sorties et événements de l’école Xavier Grall.     \n\nDate : \nLe dimanche 11 février 2024 de 09h00 à 18h00 \n \n\nLieu de l’évènement : \nSalle Omnisports\, 56400 Pluneret \n \n\nPrix de l’évènement : \n                Entrée : 1€/adulte\, gratuit pour les -12ans     \n\nPhotos : \n\n\n            \n        \n\n\n\n\n                            \n                    \nAmicale École Xavier Grall
URL:https://www.plumergat.fr/evenement/vide-grenier/
ATTACH;FMTTYPE=image/jpeg:https://www.plumergat.fr/wp-content/uploads/2023/12/849-1703278953-89705@1200.jpg
END:VEVENT
END:VCALENDAR