BEGIN:VCALENDAR
VERSION:2.0
PRODID:-//Plumergat - ECPv6.15.20//NONSGML v1.0//EN
CALSCALE:GREGORIAN
METHOD:PUBLISH
X-WR-CALNAME:Plumergat
X-ORIGINAL-URL:https://www.plumergat.fr
X-WR-CALDESC:Évènements pour Plumergat
REFRESH-INTERVAL;VALUE=DURATION:PT1H
X-Robots-Tag:noindex
X-PUBLISHED-TTL:PT1H
BEGIN:VTIMEZONE
TZID:Europe/Paris
BEGIN:DAYLIGHT
TZOFFSETFROM:+0100
TZOFFSETTO:+0200
TZNAME:CEST
DTSTART:20230326T010000
END:DAYLIGHT
BEGIN:STANDARD
TZOFFSETFROM:+0200
TZOFFSETTO:+0100
TZNAME:CET
DTSTART:20231029T010000
END:STANDARD
BEGIN:DAYLIGHT
TZOFFSETFROM:+0100
TZOFFSETTO:+0200
TZNAME:CEST
DTSTART:20240331T010000
END:DAYLIGHT
BEGIN:STANDARD
TZOFFSETFROM:+0200
TZOFFSETTO:+0100
TZNAME:CET
DTSTART:20241027T010000
END:STANDARD
BEGIN:DAYLIGHT
TZOFFSETFROM:+0100
TZOFFSETTO:+0200
TZNAME:CEST
DTSTART:20250330T010000
END:DAYLIGHT
BEGIN:STANDARD
TZOFFSETFROM:+0200
TZOFFSETTO:+0100
TZNAME:CET
DTSTART:20251026T010000
END:STANDARD
END:VTIMEZONE
BEGIN:VEVENT
DTSTART;TZID=Europe/Paris:20240210T100000
DTEND;TZID=Europe/Paris:20240210T123000
DTSTAMP:20260419T200918
CREATED:20240119T090524Z
LAST-MODIFIED:20240119T090524Z
UID:11534-1707559200-1707568200@www.plumergat.fr
SUMMARY:Vente de mobiliers scolaires au profit de l'Espace Jeunes
DESCRIPTION:L’Espace Jeunes de Plumergat vous convie à une vente de mobiliers scolaires le 10 février de 10h00 à 12h30 aux Services techniques de la commune\, Zone du Gouah à Plumergat. \nLes articles peuvent être achetés par lot ou au détail (2 chaises + 1 table = 15 € | chaise 5 € | table entre 10 € et 15 €). \nPossibilité de débattre les prix en fonction de l’état. \nLes fonds récoltés serviront à financer les activités de l’Espace Jeunes. \nDétails des articles en ligne sur Vidéo des articles proposés
URL:https://www.plumergat.fr/evenement/vente-de-mobiliers-scolaires-au-profit-de-lespace-jeunes/
LOCATION:Services techniques\, zone du Gouah\, Plumergat\, 56400
CATEGORIES:Jeunesse
ATTACH;FMTTYPE=image/jpeg:https://www.plumergat.fr/wp-content/uploads/2024/01/Vente_Mobilier_10_FEV24-e1705655108940.jpg
ORGANIZER;CN="Mairie de Plumergat":MAILTO:accueil.mairie@plumergat.fr
END:VEVENT
END:VCALENDAR