BEGIN:VCALENDAR
VERSION:2.0
PRODID:-//Plumergat - ECPv6.15.20//NONSGML v1.0//EN
CALSCALE:GREGORIAN
METHOD:PUBLISH
X-ORIGINAL-URL:https://www.plumergat.fr
X-WR-CALDESC:Évènements pour Plumergat
REFRESH-INTERVAL;VALUE=DURATION:PT1H
X-Robots-Tag:noindex
X-PUBLISHED-TTL:PT1H
BEGIN:VTIMEZONE
TZID:Europe/Paris
BEGIN:DAYLIGHT
TZOFFSETFROM:+0100
TZOFFSETTO:+0200
TZNAME:CEST
DTSTART:20230326T010000
END:DAYLIGHT
BEGIN:STANDARD
TZOFFSETFROM:+0200
TZOFFSETTO:+0100
TZNAME:CET
DTSTART:20231029T010000
END:STANDARD
BEGIN:DAYLIGHT
TZOFFSETFROM:+0100
TZOFFSETTO:+0200
TZNAME:CEST
DTSTART:20240331T010000
END:DAYLIGHT
BEGIN:STANDARD
TZOFFSETFROM:+0200
TZOFFSETTO:+0100
TZNAME:CET
DTSTART:20241027T010000
END:STANDARD
BEGIN:DAYLIGHT
TZOFFSETFROM:+0100
TZOFFSETTO:+0200
TZNAME:CEST
DTSTART:20250330T010000
END:DAYLIGHT
BEGIN:STANDARD
TZOFFSETFROM:+0200
TZOFFSETTO:+0100
TZNAME:CET
DTSTART:20251026T010000
END:STANDARD
END:VTIMEZONE
BEGIN:VEVENT
DTSTART;TZID=Europe/Paris:20240209T163000
DTEND;TZID=Europe/Paris:20240209T183000
DTSTAMP:20260419T214311
CREATED:20240126T080920Z
LAST-MODIFIED:20240126T081026Z
UID:11557-1707496200-1707503400@www.plumergat.fr
SUMMARY:Portes ouvertes – École L’Arlequin Bleu (09/02)
DESCRIPTION:L’équipe enseignante de l’école publique L’Arlequin Bleu organise des portes ouvertes le vendredi 9 février de 16h30 à 18h30. \nContact : ec.0561612y@ac-rennes.fr – 02.97.56.10.10 – https://arlequinbleu.toutemonecole.fr/
URL:https://www.plumergat.fr/evenement/portes-ouvertes-ecole-larlequin-bleu-2/
LOCATION:Ecole L’Arlequin Bleu\, Rue Joseph Evenas\, Plumergat\, 56400\, France
CATEGORIES:Ecoles
ATTACH;FMTTYPE=image/jpeg:https://www.plumergat.fr/wp-content/uploads/2024/01/AB-Portes_Ouvertes_9_FEV24-e1706256549669.jpg
ORGANIZER;CN="Ecole L'Arlequin Bleu":MAILTO:ec.0561612y@ac-rennes.fr
END:VEVENT
BEGIN:VEVENT
DTSTART;TZID=Europe/Paris:20240209T200000
DTEND;TZID=Europe/Paris:20240209T200000
DTSTAMP:20260419T214311
CREATED:20230919T095045Z
LAST-MODIFIED:20240202T123903Z
UID:10381-1707508800-1707508800@www.plumergat.fr
SUMMARY:Loto APEL Saint Joseph
DESCRIPTION:Détails sur Application Mon Village – APEL Saint Joseph
URL:https://www.plumergat.fr/evenement/loto-apel-saint-joseph/
LOCATION:Espace Les Hermines\, Rue Joseph Evenas\, Plumergat\, France
CATEGORIES:Associations
ATTACH;FMTTYPE=image/jpeg:https://www.plumergat.fr/wp-content/uploads/2023/09/Evenements-APEL_St_Jo-Loto_9_FEV24.jpg
ORGANIZER;CN="APEL Ecole Saint Joseph":MAILTO:ecolesaintjoseph.plumergat@yahoo.com
END:VEVENT
END:VCALENDAR