BEGIN:VCALENDAR
VERSION:2.0
PRODID:-//Plumergat - ECPv6.15.20//NONSGML v1.0//EN
CALSCALE:GREGORIAN
METHOD:PUBLISH
X-WR-CALNAME:Plumergat
X-ORIGINAL-URL:https://www.plumergat.fr
X-WR-CALDESC:Évènements pour Plumergat
REFRESH-INTERVAL;VALUE=DURATION:PT1H
X-Robots-Tag:noindex
X-PUBLISHED-TTL:PT1H
BEGIN:VTIMEZONE
TZID:Europe/Paris
BEGIN:DAYLIGHT
TZOFFSETFROM:+0100
TZOFFSETTO:+0200
TZNAME:CEST
DTSTART:20230326T010000
END:DAYLIGHT
BEGIN:STANDARD
TZOFFSETFROM:+0200
TZOFFSETTO:+0100
TZNAME:CET
DTSTART:20231029T010000
END:STANDARD
BEGIN:DAYLIGHT
TZOFFSETFROM:+0100
TZOFFSETTO:+0200
TZNAME:CEST
DTSTART:20240331T010000
END:DAYLIGHT
BEGIN:STANDARD
TZOFFSETFROM:+0200
TZOFFSETTO:+0100
TZNAME:CET
DTSTART:20241027T010000
END:STANDARD
BEGIN:DAYLIGHT
TZOFFSETFROM:+0100
TZOFFSETTO:+0200
TZNAME:CEST
DTSTART:20250330T010000
END:DAYLIGHT
BEGIN:STANDARD
TZOFFSETFROM:+0200
TZOFFSETTO:+0100
TZNAME:CET
DTSTART:20251026T010000
END:STANDARD
END:VTIMEZONE
BEGIN:VEVENT
DTSTART;TZID=Europe/Paris:20240114T170000
DTEND;TZID=Europe/Paris:20240114T170000
DTSTAMP:20260423T121913
CREATED:20230912T120230Z
LAST-MODIFIED:20230912T120230Z
UID:10263-1705251600-1705251600@www.plumergat.fr
SUMMARY:Théâtre - Intron Arsenik
DESCRIPTION:La Compagnie Mouton Major met en scène le parcours d’Hélène Jégado\, la plus grande empoisonneuse de tous les temps 😱\nJamais nous ne connaitrons le nombre exact de ses victimes. Pourtant\, dans cette basse Bretagne du début 19ème siècle\, mélange de chaos institutionnel\, de choléra et de croyances\, Intron ARSENIK a sévi.\nAu service de quoi ? Découvrons l’intérieur maléfique et torturé de la cuisinière.\nC’est un conte\, une gwerz\, un road movie. Un thriller machiavélique.\n\nRendez-vous le vendredi 14 janvier à 17h\nEspace les Hermines\nSpectacle tout public conseillé à partir de 12 ans\, gratuit
URL:https://www.plumergat.fr/evenement/theatre-intron-arsenik/
LOCATION:Espace Les Hermines\, Rue Joseph Evenas\, Plumergat\, 56400\, France
CATEGORIES:Culture,Spectacle & théâtre & cinéma
ATTACH;FMTTYPE=image/png:https://www.plumergat.fr/wp-content/uploads/2023/09/Saison-culturelle-Intron-Arsenik-e1694520115665.png
END:VEVENT
END:VCALENDAR