BEGIN:VCALENDAR
VERSION:2.0
PRODID:-//Plumergat - ECPv6.15.20//NONSGML v1.0//EN
CALSCALE:GREGORIAN
METHOD:PUBLISH
X-WR-CALNAME:Plumergat
X-ORIGINAL-URL:https://www.plumergat.fr
X-WR-CALDESC:Évènements pour Plumergat
REFRESH-INTERVAL;VALUE=DURATION:PT1H
X-Robots-Tag:noindex
X-PUBLISHED-TTL:PT1H
BEGIN:VTIMEZONE
TZID:Europe/Paris
BEGIN:DAYLIGHT
TZOFFSETFROM:+0100
TZOFFSETTO:+0200
TZNAME:CEST
DTSTART:20220327T010000
END:DAYLIGHT
BEGIN:STANDARD
TZOFFSETFROM:+0200
TZOFFSETTO:+0100
TZNAME:CET
DTSTART:20221030T010000
END:STANDARD
BEGIN:DAYLIGHT
TZOFFSETFROM:+0100
TZOFFSETTO:+0200
TZNAME:CEST
DTSTART:20230326T010000
END:DAYLIGHT
BEGIN:STANDARD
TZOFFSETFROM:+0200
TZOFFSETTO:+0100
TZNAME:CET
DTSTART:20231029T010000
END:STANDARD
BEGIN:DAYLIGHT
TZOFFSETFROM:+0100
TZOFFSETTO:+0200
TZNAME:CEST
DTSTART:20240331T010000
END:DAYLIGHT
BEGIN:STANDARD
TZOFFSETFROM:+0200
TZOFFSETTO:+0100
TZNAME:CET
DTSTART:20241027T010000
END:STANDARD
END:VTIMEZONE
BEGIN:VEVENT
DTSTART;TZID=Europe/Paris:20231126T090000
DTEND;TZID=Europe/Paris:20231126T120000
DTSTAMP:20260419T205455
CREATED:20231121T125751Z
LAST-MODIFIED:20231121T131713Z
UID:11053-1700989200-1701000000@www.plumergat.fr
SUMMARY:Collecte pour la banque alimentaire
DESCRIPTION:Dimanche 26 novembre de 9h00 à 12h00\, les Élus et les bénévoles du Centre Communal d’Action Sociale (CCAS) vous accueilleront au Carrefour Market de Grand-Champ pour collecter des denrées pour la banque alimentaire (Qu’est-ce qu’une Banque Alimentaire ?) \nLes Banques Alimentaires ont principalement besoin de dons en produits secs à durée de conservation longue et à forte valeur ajoutée nutritionnelle : plats cuisinés\, conserves (poisson\, viande\, fruits\, légumes)\, féculents (pâtes\, riz\, semoule)\, légumes secs\, sucre ou encore huile. \nEn entrant dans le magasin\, n’hésitez pas à leur demander de quoi ils ont besoin. Ils vous conseilleront.
URL:https://www.plumergat.fr/evenement/collecte-pour-la-banque-alimentaire/
LOCATION:Carrefour Market\, Route De Vannes\, grand-champ\, 56390\, France
CATEGORIES:Social & solidarité
ATTACH;FMTTYPE=image/jpeg:https://www.plumergat.fr/wp-content/uploads/2023/11/Evenements-Collecte_Banque_Alimentaire_26_NOV23-e1700571240353.jpg
ORGANIZER;CN="Centre Communal d'Action Sociale":MAILTO:accueil.mairie@plumergat.fr
END:VEVENT
END:VCALENDAR